BEGIN:VCALENDAR
VERSION:2.0
CALSCALE:GREGORIAN
PRODID:-//MyApp//Calendar 1.0//EN
BEGIN:VEVENT
METHOD:PUBLISH
UID:9892@regionalniportaly.cz
DTSTAMP:20260422T145054Z
DTSTART;VALUE=DATE:20170729
DTEND;VALUE=DATE:20170730
SUMMARY:Folkové prázdniny 22.-29.7.
DESCRIPTION:22.-29.7.2017\n\n32. ročník Letního multižánrového kulturního festivalu. Koncerty\, divadla\, tvůrčí dílny\, noční koncerty a mnoho dalšího.\n\nTradiční letní festival\, který si za dobu svého trvání vydobyl pevné místo v kalendáři významných evropských kulturních akcí tohoto druhu.\n\nFolkové prázdniny v Náměšti nad Oslavou jsou neobyčejným festivalem mnoha žánrů. Trvá osm dní a je plný nejen koncertů\, ale také výtvarných a hudebních dílen. Program Folkových prázdnin se rodí během celého roku. Spousta zahraničních kapel\, které se objevují v programu Folkových prázdnin\, vystupují v ČR vůbec poprvé. Pro mnohé z návštěvníků jsou tedy doposud neznámé\, ale jakmile je poznají\, nedokáží se od nich odtrhnout. Festival Folkové prázdniny je festivalem skvělých hudebních i nehudebních zážitků a inspirací.\n\nLetošní téma festivalu je O snech a snílcích. Návštěvníci se mohou těšit například na Anetu Langerovou\, Blick Bassy\, Vladimíra Mišíka\, Javory\, Ranky Tanky\, Jablkoň\, Elephant Revival\, Ivu Bittovou\, Dreamers´Circus a mnoho dalších!
LOCATION:Náměšť nad Oslavou
END:VEVENT
END:VCALENDAR