BEGIN:VCALENDAR
VERSION:2.0
CALSCALE:GREGORIAN
PRODID:-//MyApp//Calendar 1.0//EN
BEGIN:VEVENT
METHOD:PUBLISH
UID:9033@regionalniportaly.cz
DTSTAMP:20260421T015832Z
DTSTART;VALUE=DATE:20170224
DTEND;VALUE=DATE:20170225
SUMMARY:Homeless
DESCRIPTION:
LOCATION:Náměšť nad Oslavou
END:VEVENT
END:VCALENDAR