BEGIN:VCALENDAR
VERSION:2.0
CALSCALE:GREGORIAN
PRODID:-//MyApp//Calendar 1.0//EN
BEGIN:VEVENT
METHOD:PUBLISH
UID:65863@regionalniportaly.cz
DTSTAMP:20260424T094230Z
DTSTART;VALUE=DATE:20260429
DTEND;VALUE=DATE:20260430
SUMMARY:New Car Smell - BRASS RAVE
DESCRIPTION:Punkové trio převlečené za dechovou kapelu – NEW CAR SMELL je tříčlenná rave mašinérie. Se saxofonem\, tubou a bicími využívají sílu svých plic ke kombinaci dance\, punku a funku\, aby rozpohybovali celý klub!
LOCATION:Brno
END:VEVENT
END:VCALENDAR