BEGIN:VCALENDAR
VERSION:2.0
CALSCALE:GREGORIAN
PRODID:-//MyApp//Calendar 1.0//EN
BEGIN:VEVENT
METHOD:PUBLISH
UID:65670@regionalniportaly.cz
DTSTAMP:20260420T233742Z
DTSTART;VALUE=DATE:20260509
DTEND;VALUE=DATE:20260510
SUMMARY:Kašpárkovy matlohrátky - dinosauři
DESCRIPTION:Tentokrát prozkoumáme všemi smyly DINOSAURY
LOCATION:Rosice
END:VEVENT
END:VCALENDAR