BEGIN:VCALENDAR
VERSION:2.0
CALSCALE:GREGORIAN
PRODID:-//MyApp//Calendar 1.0//EN
BEGIN:VEVENT
METHOD:PUBLISH
UID:63801@regionalniportaly.cz
DTSTAMP:20260422T171345Z
DTSTART;VALUE=DATE:20260328
DTEND;VALUE=DATE:20260329
SUMMARY:Zdeněk Vřešťál 70!
DESCRIPTION:Hosté: Pavel Pokorný &amp\; Neznámé celebrity.\n \n \nZDENĚK VŘEŠŤÁL 70\n \nhosté:\n \n       Pavel Pokorný\n                        &amp\; Neznámé celebrity\n             (Petr Novotný\, Aleš Hrbek\, Martina Hrbková)\n \n                                 4 Zdi\n \nNarozeninový koncert spojený se křtem nového\nCD a LP Vřešťál 70! \n \nSokolovna\, Náměšť nad Oslavou\, 28. 3. 2026 v 19.00\nVstupné 200 Kč předprodej\, 250 Kč na místě
LOCATION:Náměšť nad Oslavou
END:VEVENT
END:VCALENDAR