BEGIN:VCALENDAR
VERSION:2.0
CALSCALE:GREGORIAN
PRODID:-//MyApp//Calendar 1.0//EN
BEGIN:VEVENT
METHOD:PUBLISH
UID:63480@regionalniportaly.cz
DTSTAMP:20260422T074536Z
DTSTART;VALUE=DATE:20260327
DTEND;VALUE=DATE:20260328
SUMMARY:Listování: 13!
DESCRIPTION:Spisovatel\, nakladatel\, stand-up komik a fanda faktoriálu Pavel Tomeš napsal mozaiku povídek\, která jasně ukazuje\, že žádná tma není tak temná\, aby ji neprozářil černý humor.Autor známého románu o smrti Až na ten konec dobrý získal s Třináctkou Cenu Miloslava Švandrlíka a také nominaci Magnesia Litera v kategorii humoristická kniha.Přijďte se na Listování přesvědčit\, že 13! je šťastné a zábavné číslo.- účinkují Pavel Oubram a Zuzana Valešová (alt. Daniela Šišková)- v roce 2023 vydalo nakladatelství OTOČ\nMístenky/rezervace na radnici za 100\,-Kčmestys@mohelno.info / tel.: 702 076 602
LOCATION:Mohelno
END:VEVENT
END:VCALENDAR