BEGIN:VCALENDAR
VERSION:2.0
CALSCALE:GREGORIAN
PRODID:-//MyApp//Calendar 1.0//EN
BEGIN:VEVENT
METHOD:PUBLISH
UID:63228@regionalniportaly.cz
DTSTAMP:20260420T081156Z
DTSTART;VALUE=DATE:20260215
DTEND;VALUE=DATE:20260216
SUMMARY:Shromáždění na podporu demokratických hodnot
DESCRIPTION:Přijďte podpořit slušnost\, respekt\, nezávislost institucí. Přijďte\, lidé dobré vůle.\nKdy? V neděli 15. února od 16:00 hod.Kde? Historický most v Náměšti nad Oslavou.
LOCATION:Náměšť nad Oslavou
END:VEVENT
END:VCALENDAR