BEGIN:VCALENDAR
VERSION:2.0
CALSCALE:GREGORIAN
PRODID:-//MyApp//Calendar 1.0//EN
BEGIN:VEVENT
METHOD:PUBLISH
UID:61986@regionalniportaly.cz
DTSTAMP:20260422T192609Z
DTSTART;VALUE=DATE:20260226
DTEND;VALUE=DATE:20260227
SUMMARY:Pavel Čadek - Cellem vpřed tour
DESCRIPTION:Sokolovna Náměšť nad Oslavou\, Náměšť nad OslavouCellem vpřed tour pro vás připravil Pavel Čadek\, Ondra Zámečník a Adam Sikora.Těšíme se na vás!\nDobrý den! Jmenuju se Pavel Čadek a jsem písničkář\, který hraje na cello. Vydával jsem na podzim desku s nevtíravě humorným názvem “Cellem vpřed!” a pojedu s ní i do Náměště!Na koncertě zazní jak nové písničky z alba\, tak staré šlágry jako Nestíhám nebo Prsa\, ale dojde i na klidnější a zamyšlené písničky a tak zhruba půlka bude samozřejmě o lásce.A přijedu i s Úcellovou skupinou (ti co hrají “u cella”) - Ondra Zámečník (akordeon zpěv) a Adam Sikora (bicí\, perkuse\, zpěv).Velmi se těším\, protože koncerty na turné bývají vždycky moc fajn. Budu rád\, když budete u toho!
LOCATION:Náměšť nad Oslavou
END:VEVENT
END:VCALENDAR