BEGIN:VCALENDAR
VERSION:2.0
CALSCALE:GREGORIAN
PRODID:-//MyApp//Calendar 1.0//EN
BEGIN:VEVENT
METHOD:PUBLISH
UID:60293@regionalniportaly.cz
DTSTAMP:20260422T163943Z
DTSTART;VALUE=DATE:20260329
DTEND;VALUE=DATE:20260330
SUMMARY:O perníkovém srdci a čarodějné knize
DESCRIPTION:O perníkovém srdci a čarodějné knizeSokolovna Náměšť nad Oslavou\, Náměšť nad OslavouPohádkový příběh pro děti od 3 - 10 let.\nPtáte se proč \,\,perníkové“ srdce? Vůní perníku je provoněná celá pohádka. Jak by ne\, když Anička peče nejchutnější a nejvoňavější perník v kraji. Jednou ho jde prodat na jarmark a její cesta vede tmavým lesem. Vůni perníku však neodolají ani zlá čarodějnice a její komplic loupežník Rambul\, kteří v tom lese řádí. I začnou spolu kout pikle\, jak jí o sladkou dobrotu oloupit. Naštěstí to uslyší liška Chytrolína a pokusí se Aničku varovat. Anička příliš jejímu varování nevěří\, tak liška za ní pošle kolemjdoucího vandrovníka\, mladého tesařského tovaryše Martina\, aby Aničku ochránil. A tady se začne odvíjet napínavý děj plný čarování\, kouzel a úkladů\, ale i lásky a odvahy. Pohádkový příběh ožije scénickou hudbou a melodickými písničkami\, které dotvářejí atmosféru temného lesa i venkovského jarmarku.Budete se bát o milou Aničku\, fandit statečnému a šikovnému Martinovi\, který vás překvapí vtipným nápadem jak vyzrát na zlomyslnou čarodějku. Budete udiveni nenadálou proměnou \,\,strašlivého loupežníka Rambula“ a zasmějete se napálené čarodějnici.Jak to sní skončí? Přijďte se na naši pohádku podívat a budete u toho!Vstupenky v předprodeji nebo na místě před představením.
LOCATION:Náměšť nad Oslavou
END:VEVENT
END:VCALENDAR