BEGIN:VCALENDAR
VERSION:2.0
CALSCALE:GREGORIAN
PRODID:-//MyApp//Calendar 1.0//EN
BEGIN:VEVENT
METHOD:PUBLISH
UID:60292@regionalniportaly.cz
DTSTAMP:20260422T175319Z
DTSTART;VALUE=DATE:20260222
DTEND;VALUE=DATE:20260223
SUMMARY:Brouk Pytlík
DESCRIPTION:Brouk PytlíkSokolovna Náměšť nad Oslavou\, Náměšť nad OslavouVeselá pohádka podle předlohy spisovatele Ondřeje Sekory. Od 3 - 10 let.\nPokračování příběhů dvou kamarádů Ferdy a Pytlíka z palouku\, kam se do jezírka\, kde bydlí statečný a hodný\, i když trochu jedovatý\, Pavouk Vodouch\, přistěhuje zlý Potápník s půvabnou Splešťulí Blátivou a začne všem poroučet. Ferda a jeho kamarádi - Cvrček\, Ploštice Ruměnice\, Škvor policajt\, Luční Koník a samozřejmě Brouk Pytlík se společně snaží palouček zachránit. Ferda má narozeniny\, na kterých se objeví i Beruška a Housenka Pepina. A protože je Ferda už z práce hodně unavený\, vezme ho Pepina na výlet a na paloučku se ho rozhodne zastoupit Brouk Pytlík.
LOCATION:Náměšť nad Oslavou
END:VEVENT
END:VCALENDAR