BEGIN:VCALENDAR
VERSION:2.0
CALSCALE:GREGORIAN
PRODID:-//MyApp//Calendar 1.0//EN
BEGIN:VEVENT
METHOD:PUBLISH
UID:60289@regionalniportaly.cz
DTSTAMP:20260422T175406Z
DTSTART;VALUE=DATE:20260125
DTEND;VALUE=DATE:20260126
SUMMARY:Princezna Čokoláda
DESCRIPTION:O malém rytíři Juráškovi.Sokolovna Náměšť nad Oslavou.O Malém rytíři Juráškovi je pohádkou pro děti od 2 - 10 let. Můžete se těšit na pohádku plnou smíchu\, dobrodružství a dobrého konce.\nMalý princ chce být velkým a statečným princem.
LOCATION:Náměšť nad Oslavou
END:VEVENT
END:VCALENDAR