BEGIN:VCALENDAR
VERSION:2.0
CALSCALE:GREGORIAN
PRODID:-//MyApp//Calendar 1.0//EN
BEGIN:VEVENT
METHOD:PUBLISH
UID:59390@regionalniportaly.cz
DTSTAMP:20260422T153504Z
DTSTART;VALUE=DATE:20251114
DTEND;VALUE=DATE:20251115
SUMMARY:Roman Horký a Kamelot
DESCRIPTION:Vážení přátelé a kamarádi\,blíží se nám krásný podzimní den 14. 11. 2025. To se v Sokolovně v Náměšti nad Oslavou rozezní struny našich kytar a vy s námi u toho můžete být.Vystoupí Roman Horký se skupinou Kamelot\, Ilona Csáková a Adam Čechovský.Vstupenky jak v předprodeji\, tak i na místě.
LOCATION:Náměšť nad Oslavou
END:VEVENT
END:VCALENDAR