BEGIN:VCALENDAR
VERSION:2.0
CALSCALE:GREGORIAN
PRODID:-//MyApp//Calendar 1.0//EN
BEGIN:VEVENT
METHOD:PUBLISH
UID:59243@regionalniportaly.cz
DTSTAMP:20260422T164043Z
DTSTART;VALUE=DATE:20251116
DTEND;VALUE=DATE:20251117
SUMMARY:Tobias Freya
DESCRIPTION:Koncert pro teenagery.Koncert\, kam patříš ty!Tobias Freya (*2011) pochází z Kladna\, kde chodí na základní školu s hudebním zaměřením. Věnoval se závodnímu stepu\, stal se Mistrem Světa a pravidelně navštěvuje hodiny zpěvu. V necelých třech letech stál poprvé před kamerou. Má za sebou několik rolí v seriálech (Modrý kód\, Ordinace v růžové zahradě\, Rodinné případy). Zahrál si také malého Pepu Nováka ve filmu Pepa a hlavní dětskou roli ve filmu Léto s gentlemanem. Od roku 2022 se věnuje i divadlu (DJKT Plzeň muzikál Fun Home\, HDK muzikál Slunce\, seno\, jahody\, muzikál Bodyguard\, divadlo Kalich muzikál Biograf láska a Voda nad vodou). Jeho hlas můžete slyšet i v dabingu.
LOCATION:Náměšť nad Oslavou
END:VEVENT
END:VCALENDAR