BEGIN:VCALENDAR
VERSION:2.0
CALSCALE:GREGORIAN
PRODID:-//MyApp//Calendar 1.0//EN
BEGIN:VEVENT
METHOD:PUBLISH
UID:59242@regionalniportaly.cz
DTSTAMP:20260422T171139Z
DTSTART;VALUE=DATE:20251115
DTEND;VALUE=DATE:20251116
SUMMARY:Košt vín v Sokolovně
DESCRIPTION:Přijďte si prožít vinný večer\, jak má být!V sobotu 15. listopadu se můžete těšit na ochutnávku vín z Vinotéky na Uhláku\, k tanci a poslechu zahraje cimbálová muzika Kalíšek.Vstupenky můžete zakoupit online i na místě.
LOCATION:Náměšť nad Oslavou
END:VEVENT
END:VCALENDAR