BEGIN:VCALENDAR
VERSION:2.0
CALSCALE:GREGORIAN
PRODID:-//MyApp//Calendar 1.0//EN
BEGIN:VEVENT
METHOD:PUBLISH
UID:57193@regionalniportaly.cz
DTSTAMP:20260422T175339Z
DTSTART;VALUE=DATE:20260312
DTEND;VALUE=DATE:20260313
SUMMARY:Sex na vlnách
DESCRIPTION:Jedna noc. Jedno velkoměsto a spousta malých lidských příběhů\, které se dějí tady a teď. Stárnoucí dvojice\, co chce oživit vztah\, stěhováci\, které nebaví práce\, zmatená taxikářka nebo zaměstnanci striptýzového klubu. Že tihle lidé nemohou mít nic společného? To byste se divili…Divadelní představení v Sokolovně v Náměšti nad Oslavou. Vstupenky koupíte pouze přes online předprodej:https://goout.net/cs/listky/sex-na-vlnach/bkshb/
LOCATION:Náměšť nad Oslavou
END:VEVENT
END:VCALENDAR