BEGIN:VCALENDAR
VERSION:2.0
CALSCALE:GREGORIAN
PRODID:-//MyApp//Calendar 1.0//EN
BEGIN:VEVENT
METHOD:PUBLISH
UID:56293@regionalniportaly.cz
DTSTAMP:20260422T192600Z
DTSTART;VALUE=DATE:20260327
DTEND;VALUE=DATE:20260328
SUMMARY:Vím\, že víš\, že vím...
DESCRIPTION:VÍM\, ŽE VÍŠ\, ŽE VÍM...Hořko-sladká komedie o tom\, jak si udržet živé manželství.hrají: Simona Stašová\, Michal Dlouhý\, Andrea Daňková ú Isabella Rossini\, Vasil Fridrich / Petr Vančura\nautoři: Renato Giordano A Rodolfo Sonegorežie: Vladimír Strnisko\nhrají: Simona Stašová\, Michal Dlouhý\, Andrea Daňková ú Isabella Rossini\, Vasil Fridrich / Petr Vančura\nNezdá se vám\, že pořád víc víme všichni všechno? Žena a muž. Jeden z našich světů.Komedie překvapení\, zvratů\, krásných lží\, bouřlivých scén i italského humoru.Hra\, ve které se snoubí všechno\, co v dobré komedii nesmí chybět.Vladimír Strnisko\nRodinný život manželů Bonettiových a jejich dospívající dcery se pohybuje zdánlivěv každodenní jednotvárnosti. On věnuje většinu svého času práci v bance a koukání na fotbalové zápasy v televizi. Jednoho dne zjistí\, že jeho rodina byla omylem sledovánaa filmována soukromým detektivem místo sousedky známého politika. Manžel se tím náramně baví a vše vypráví své ženě. Ta se zdá být naopak velmi znepokojená. Co se skrývá pod pokličkou zdánlivě všedních dní manželského páru?\nDélka představení s přestávkou cca 2 hodiny 20 minutCena vstupenky: 600\,- / 550\,-
LOCATION:Náměšť nad Oslavou
END:VEVENT
END:VCALENDAR