BEGIN:VCALENDAR
VERSION:2.0
CALSCALE:GREGORIAN
PRODID:-//MyApp//Calendar 1.0//EN
BEGIN:VEVENT
METHOD:PUBLISH
UID:55592@regionalniportaly.cz
DTSTAMP:20260422T164904Z
DTSTART;VALUE=DATE:20251106
DTEND;VALUE=DATE:20251107
SUMMARY:VELKÁ ZEBRA aneb Jak že se to jmenujete?
DESCRIPTION:Jean-Jacques Bricaire\, Maurice Lassayques: VELKÁ ZEBRA aneb Jak že se to jmenujete? — bláznivá komedie o tom\, kdo vlastně jsme. V listopadu v kulturním domě ve&nbsp\;Zbraslavi u Brna!Hrají: Ondřej Vetchý\,&nbsp\;Jaromír Dulava\,&nbsp\;Jitka Ježková\,&nbsp\;Dana Černá\, Martina Hudečková\, Zdeněk Vencl / Jiří Štrébl / Zdeněk VelenRežie: Petr&nbsp\;PaloušDélka představení:&nbsp\;120 minut (včetně&nbsp\;přestávky)
LOCATION:Zbraslav
END:VEVENT
END:VCALENDAR