BEGIN:VCALENDAR
VERSION:2.0
CALSCALE:GREGORIAN
PRODID:-//MyApp//Calendar 1.0//EN
BEGIN:VEVENT
METHOD:PUBLISH
UID:55548@regionalniportaly.cz
DTSTAMP:20260422T171244Z
DTSTART;VALUE=DATE:20250717
DTEND;VALUE=DATE:20250718
SUMMARY:Opravna duší v Náměšti nad Oslavou
DESCRIPTION:Pojďte spolu s&nbsp\;námi zažít večer\, kdy vám opravíme vaše duše!&nbsp\;Literárně-hudební show „Opravna duší“&nbsp\;vytvořily herečka a spisovatelka Martina Preissová a&nbsp\;zpěvačka a&nbsp\;herečka Dáša Zázvůrková. Tento projekt spojuje autorské čtení z&nbsp\;knih Martiny Preissové&nbsp\;„Jak jsem nebyla na&nbsp\;lvech“ a&nbsp\;„Mají v&nbsp\;nebi skleničky?“ s&nbsp\;hudebními vystoupeními Dáši Zázvůrkové.V Náměšti nad Oslavou si poprvé užijete tuto zábavnou show plnou moudrých rad na piknikových dekách. Pokud preferujete sezení na židličkách\, budete i vy spokojení. Na naší letní scéně je možné obojí.&nbsp\;Dobroty si můžete zakoupit před akcí&nbsp\;v nové letní kavárně Salieri caffè na nádvoří zámku. Krom lahodné kávy se těšte na prosecco s prkýnkem plným skvělých sýrů a mnoho dalšího.Co říkají o programu samy účinkující?Máte manžela? Máte manželku? Jste svobodní? Jste málo šťastní\, nebo příliš bezstarostní? Cítíte se&nbsp\;někdy sami\, nesnášíte nakupování\, nebo trpíte nadváhou? Máme lék na&nbsp\;mnoho vašich starostí. A&nbsp\;jak to&nbsp\;děláme? Donutíme vás na&nbsp\;ně během našeho pořadu zapomenout! Na&nbsp\;každou vaši drobnou starost máme náplast ve&nbsp\;formě duetu\, fejetonu\, stand upu nebo sólového šansonu. To&nbsp\;vše z&nbsp\;naší autorské dílny a&nbsp\;s notnou dávkou humoru.Nemějte strach\, že je to&nbsp\;nějaká chvilka poezie! Je to&nbsp\;setkání dvou žen na&nbsp\;jevišti\, která každá po&nbsp\;svém a&nbsp\;někdy i&nbsp\;dohromady opravují duše těm\, kteří se&nbsp\;chtějí zasmát a&nbsp\;zamyslet. Nechte se&nbsp\;strhnout rytmem našich temperamentů a&nbsp\;slibujeme\, že cestou domů si ještě stále budete zpívat a&nbsp\;usmívat se.
LOCATION:Náměšť nad Oslavou
END:VEVENT
END:VCALENDAR