BEGIN:VCALENDAR
VERSION:2.0
CALSCALE:GREGORIAN
PRODID:-//MyApp//Calendar 1.0//EN
BEGIN:VEVENT
METHOD:PUBLISH
UID:54973@regionalniportaly.cz
DTSTAMP:20260422T163930Z
DTSTART;VALUE=DATE:20250620
DTEND;VALUE=DATE:20250621
SUMMARY:Concentrus Moraviae - Nevermind
DESCRIPTION:Druhý koncert v rámci hudebního festivalu CONCENTUS MORAVIAE v zámecké knihovně. V pátek 20.června od 19.30 hodin.\n \nCONCENTUS MORAVIAE 2025v ZÁMECKÉ KNIHOVNĚ\nNEVERMINDAnna Besson flétnaLouis Creac´h housleRobin Pharo viola da gambaJean Rondeau cembalo\, rezidenční umělec 30. ročníku\nProgram:Transkripce Goldbergových variací BWV 988vytvořená souborem Nevermind (Anna Besson\, Louis Creac’h\, Robin Pharo &amp\; Jean Rondeau): „Clavier Übung bestehend in einer Arie mit verschiedenen Veränderungen vors Clavicimbal mit 2 Manualen“ od Johanna Sebastiana Bacha\, pro housle\, flétnu\, violu da gamba a basso continuo.Transkripce pod vedením: Robin Pharo &amp\; Jean RondeauOdpovědný redaktor: Robin PharoProjekt vznikl v sobotu 23. září 2023 v rámci tvůrčího pobytu pořádaného festivalem Bel-Air Claviers.\nMistrovská díla mají tu vlastnost\, že inspirují – aniž by je to snižovalo – k různým formám přivlastnění. Nevermind\, fenomenální "barokní" kvarteto v unikátním obsazení\, vynalézavě přetváří slavné Goldbergovky a nabízí výmluvnou a originální variaci na variace.
LOCATION:Náměšť nad Oslavou
END:VEVENT
END:VCALENDAR