BEGIN:VCALENDAR
VERSION:2.0
CALSCALE:GREGORIAN
PRODID:-//MyApp//Calendar 1.0//EN
BEGIN:VEVENT
METHOD:PUBLISH
UID:54482@regionalniportaly.cz
DTSTAMP:20260421T011555Z
DTSTART;VALUE=DATE:20250607
DTEND;VALUE=DATE:20250608
SUMMARY:Family Food Festival v Náměšti nad Oslavou
DESCRIPTION:Srdečně vás zveme na historicky první ročník Family Food Festivalu CZ v Náměšti nad Oslavou\, který se uskuteční v sobotu 7. června 2025 na Náměstí T. G. Masaryka.\nČeká vás celodenní hostina plná výborného jídla\, osvěžujících drinků\, skvělé atmosféry pro celou rodinu.\nFestival je zdarma.\nAkci pro více infromací sledujte na Facebooku.
LOCATION:Náměšť nad Oslavou
END:VEVENT
END:VCALENDAR