BEGIN:VCALENDAR
VERSION:2.0
CALSCALE:GREGORIAN
PRODID:-//MyApp//Calendar 1.0//EN
BEGIN:VEVENT
METHOD:PUBLISH
UID:53985@regionalniportaly.cz
DTSTAMP:20260422T175416Z
DTSTART;VALUE=DATE:20251210
DTEND;VALUE=DATE:20251211
SUMMARY:Dasha - vánoční koncert
DESCRIPTION:DASHA &amp\; Pajky Pajky QuintetVÁNOČNÍ KONCERTDasha\, kterou znáte především z pořadu StarDance je zpěvačka s jedním z nejzajímavějších hlasů naší hudební scény. Držitelka ceny Thálie za rok 2010. Koncertuje se svojí domovskou kapelouMoondance Orchestra a Pajky Pajk Martina Kumžáka\, účastní se také jiných projektů jako je Dasha Symphony\, M. Jackson Symphony\, Oratorium Svatého Václava a další.Pajky Pajky Quintet je část muzikantů z Moondance Orchestra jež zaručuje dokonalý hudební zážitek skvělých hudebníků. Martin Kumžák - piano\, Martin Lehký - basa\, Tomáš Brožek - bicí\,Pavel Plánka – perkuse\, Peter Binder – kytara.Dasha zazpívá své oblíbené skladby a naladí vás na tu správnou vánoční atmosféru. Dokonalý hudební zážitek zaručuje.Vstupné: 800\,- / 750\,-
LOCATION:Náměšť nad Oslavou
END:VEVENT
END:VCALENDAR