BEGIN:VCALENDAR
VERSION:2.0
CALSCALE:GREGORIAN
PRODID:-//MyApp//Calendar 1.0//EN
BEGIN:VEVENT
METHOD:PUBLISH
UID:53232@regionalniportaly.cz
DTSTAMP:20260422T171024Z
DTSTART;VALUE=DATE:20250923
DTEND;VALUE=DATE:20250924
SUMMARY:Aby bylo jasno - divadlo
DESCRIPTION:Divadelní komedie od 19 hodin v sále Sokolovny.\n \nGinny a Greg\, pár\, který spolu žije velice krátce\, se nezávisle na sobě sejdou v domě manželů Sheily a Filipa.Kdyby Sheila tolik neprovokovala\, kdyby si Ginny nenapsala tu zatracenou adresu na krabičku od cigaret\, kdyby Greg nenašel pod postelí ty pantofle a kdyby Filip našel svou motyku\, všechno by bylo fajn. Kdyby... Teď ale ti čtyři zažijí horké letní odpoledne\, na které jen tak nezapomenou.Autor Alan Ayckbourn\, renomovaný britský dramatik\, proslul především komediemi Aby bylo jasno (Relatively speaking) či Jak miluje má drahá polovička\, u nás uváděná též jako Kdes to byl/a v noci? (How the Other Half Loves). Hravým stylem svých her výrazně připomíná jiného velikána - Woodyho Allena. Stejně jako on dokáže vystavět zápletku\, která je zárukou jiskrné zábavy.
LOCATION:Náměšť nad Oslavou
END:VEVENT
END:VCALENDAR