BEGIN:VCALENDAR
VERSION:2.0
CALSCALE:GREGORIAN
PRODID:-//MyApp//Calendar 1.0//EN
BEGIN:VEVENT
METHOD:PUBLISH
UID:53229@regionalniportaly.cz
DTSTAMP:20260422T153346Z
DTSTART;VALUE=DATE:20250726
DTEND;VALUE=DATE:20250802
SUMMARY:Folkové prázdniny 2025
DESCRIPTION:Folkové prázdniny jsou osmidenním multižánrovým hudebním festivalem v prostředí areálu renesančního zámku v Náměšti nad Oslavou se specifickou tematickou dramaturgií\, výjimečností vybraných hudebníků a jejich projektů\, velkým množstvím doprovodných programů.\nFolkové prázdniny jsou několik festivalů v jednom: vlastní hlavní hudební program Folkových prázdnin\, noční koncerty v mimořádných prostředích\, velký festival hudebních\, tanečních\, výtvarných a textových dílen Hnízdo múz\, minifestival folkových muzikantů Open scéna\, odborné kolokvium o lidové hudbě a world music\, rozpravy s hudebními publicisty\, výstavy s hudební tematikou\, výtvarně-hudební happeningy.
LOCATION:Náměšť nad Oslavou
END:VEVENT
END:VCALENDAR