BEGIN:VCALENDAR
VERSION:2.0
CALSCALE:GREGORIAN
PRODID:-//MyApp//Calendar 1.0//EN
BEGIN:VEVENT
METHOD:PUBLISH
UID:53015@regionalniportaly.cz
DTSTAMP:20260422T171253Z
DTSTART;VALUE=DATE:20250417
DTEND;VALUE=DATE:20250418
SUMMARY:Zelené pivo se skupinou PROVÁS
DESCRIPTION:Přijďte posedět na zelené pivo s pohodovou hudbou.\nZahraje kapela PROVÁS.\nVSTUP ZDARMA
LOCATION:Zakřany
END:VEVENT
END:VCALENDAR