BEGIN:VCALENDAR
VERSION:2.0
CALSCALE:GREGORIAN
PRODID:-//MyApp//Calendar 1.0//EN
BEGIN:VEVENT
METHOD:PUBLISH
UID:49319@regionalniportaly.cz
DTSTAMP:20260422T163954Z
DTSTART;VALUE=DATE:20250610
DTEND;VALUE=DATE:20250611
SUMMARY:Milión - přeložený termín
DESCRIPTION:Slavný divadelní herec\, režisér a ředitel\, lehce arogantní Filip Martén má problém. Jeviště jeho divadla sežral červotoč. Na záchranu toho\, co celý život budoval\, potřebuje milion euro. Známý umělec vsadí vše na jednu kartu a jde osobně požádat o peníze záhadného miliardáře a mecenáše Jeana Petitéra\, který se naopak na veřejnosti neukazuje vůbec. Dostat milion Euro ovšem není jen tak…Jednoaktová komedie pro dva bravurní herce\, kteří se neustále překvapují novými úkoly a výzvami. Souboj dvou výjimečných osobností. Jak tento třaskavý dialog plný nečekaných situací a chytrého humoru skončí? Získá nakonec pan Martén svůj milion? Není za tím vším ještě něco jiného?Chytrá\, neotřelá a překvapující komedie zaujala dvě herecké osobnosti\, přátele\, co spolu odehráli několik sezon v Dejvickém divadle\, Hynka Čermáka a Vladimíra Polívku\, a nabízí příslib energií nabité atmosféry\, jiskřivého divadelního zážitku! 
LOCATION:Náměšť nad Oslavou
END:VEVENT
END:VCALENDAR