BEGIN:VCALENDAR
VERSION:2.0
CALSCALE:GREGORIAN
PRODID:-//MyApp//Calendar 1.0//EN
BEGIN:VEVENT
METHOD:PUBLISH
UID:49318@regionalniportaly.cz
DTSTAMP:20260422T153541Z
DTSTART;VALUE=DATE:20250416
DTEND;VALUE=DATE:20250417
SUMMARY:Oko tygra - divadlo
DESCRIPTION:OKO TYGRAautor: Stefan Vögelrežie: Jakub Nvotahraje: Marek NěmecKomedie jednoho herce o krizi středního věku.Markus se rozvedl\, našel si mladou přítelkyni a koupil sportovní auto\, začal chodit do solária a boxerského klubu a teď po sedmi měsících může zodpovědně říct\, že… euforie vyprchala a on by se rád vrátil ke své ženě a dětem. Ti ovšem mají zásadní podmínku. Okamžitě začne chodit na terapii proti krizi středního věku. Jak směšné!Autor nechává svého hrdinu bezohledně otevřeně\, bezostyšně\, upřímně\, ale především vtipně vyprávět o tom\, co žádný chlap nepřizná jenom tak. Nevynechává při tom ani leckteré tabu\, jako například sex v manželství. Je to ironické a pravdivé nastavení zrcadla - mužůmi ženám.Délka představení: 100 min. včetně přestávkyCena vstupenky: 490\,- / 450\,- / 400\,-
LOCATION:Náměšť nad Oslavou
END:VEVENT
END:VCALENDAR