BEGIN:VCALENDAR
VERSION:2.0
CALSCALE:GREGORIAN
PRODID:-//MyApp//Calendar 1.0//EN
BEGIN:VEVENT
METHOD:PUBLISH
UID:47871@regionalniportaly.cz
DTSTAMP:20260422T171213Z
DTSTART;VALUE=DATE:20241120
DTEND;VALUE=DATE:20241121
SUMMARY:Kecičky a písničky
DESCRIPTION:Známá režisérka a spisovatelka Karin Krajčo Babinská\, její manžel Richard Krajčo a rodinný TALKSHOWRECITÁL o tom\, “jak to vidí ona\, aneb on to vidí často jinak”. Pokec\, zábava\, domácí pohoštění\, akustická kytara\, kopák\, písně kapely Kryštof a možná i nějaké to překvapení. 
LOCATION:Náměšť nad Oslavou
END:VEVENT
END:VCALENDAR