BEGIN:VCALENDAR
VERSION:2.0
CALSCALE:GREGORIAN
PRODID:-//MyApp//Calendar 1.0//EN
BEGIN:VEVENT
METHOD:PUBLISH
UID:46890@regionalniportaly.cz
DTSTAMP:20260422T171306Z
DTSTART;VALUE=DATE:20241219
DTEND;VALUE=DATE:20241220
SUMMARY:Vánoční koncert - Josef Vágner
DESCRIPTION:Hostem večera je dětský pěvecký sbor Allegro. Koncert začíná v 18:00 v Sokolovně.Vstupenky zakoupíte v předprodeji na:\nhttps://www.ticketportal.cz/event/VANOCNI-KONCERT-JOSEFA-VAGNERA?imedium=search
LOCATION:Náměšť nad Oslavou
END:VEVENT
END:VCALENDAR