BEGIN:VCALENDAR
VERSION:2.0
CALSCALE:GREGORIAN
PRODID:-//MyApp//Calendar 1.0//EN
BEGIN:VEVENT
METHOD:PUBLISH
UID:46889@regionalniportaly.cz
DTSTAMP:20260422T171336Z
DTSTART;VALUE=DATE:20241117
DTEND;VALUE=DATE:20241118
SUMMARY:Jak Jeníček a Mařenka navštěvují pohádky
DESCRIPTION:Kdo se nenudí\, nezlobíJeníček a Mařenka už jsou spíše Jenda a Marie\, ale jejich jména způsobují\, že se jim do života stále pletou pohádky. Konkrétně jde o tři pohádky\, z nichž každá je zpracovaná jinou loutkářskou technikou. V první uvidíte spodové molitanové loutky a oživlé předměty\, ve druhé loutky plošné a ve třetí pak dvě dřevěné marionety a pohádkové bytosti v životních velikostech.Text Jiřího Středy upravil a režíroval Miroslav Táborský\, který také na své bývalé domovské scéně Divadla v Dlouhé hraje roli Jendy. Alternuje s ním René Krupanský\, jinak též autor hudby.ÚčinkujíKateřina TáborskáMiroslav Táborský
LOCATION:Náměšť nad Oslavou
END:VEVENT
END:VCALENDAR