BEGIN:VCALENDAR
VERSION:2.0
CALSCALE:GREGORIAN
PRODID:-//MyApp//Calendar 1.0//EN
BEGIN:VEVENT
METHOD:PUBLISH
UID:46888@regionalniportaly.cz
DTSTAMP:20260422T171411Z
DTSTART;VALUE=DATE:20241116
DTEND;VALUE=DATE:20241117
SUMMARY:Košt vín s cimbálovou muzikou Kalíšek
DESCRIPTION:Ochutnávka vín\, spojená s občerstvením od kavárny Pohodička a k tanci a poslechu zahraje cimbálová muzika Kalíšek. Začínáme v 17 hodin.Vstupné 150\,- Kč. Předprodej vstupenek od 30.9.
LOCATION:Náměšť nad Oslavou
END:VEVENT
END:VCALENDAR