BEGIN:VCALENDAR
VERSION:2.0
CALSCALE:GREGORIAN
PRODID:-//MyApp//Calendar 1.0//EN
BEGIN:VEVENT
METHOD:PUBLISH
UID:46457@regionalniportaly.cz
DTSTAMP:20260422T153406Z
DTSTART;VALUE=DATE:20241013
DTEND;VALUE=DATE:20241014
SUMMARY:Závod v orientačním běhu u Stropešína
DESCRIPTION:Pořádáme závod podzimní Ligy Vysočiny na krátké trati v orientačním běhu.Zveme i zájemce z řad veřejnosti\, budou připraveny jednodušší tratě pro již dospělé (kategorie P-příchozí)\, rodiče s dětmi (kategorie HDR) a nově i děti do 12 let (kategorie HD12X).   Není potřeba žádná znalost\, se vším potřebným vás seznámíme na místě nebo se přijďte předem sžít s OB mapou na některý z našich tréninků.Přihlášky pro neregistrované závodníky na prihlasky@oobtrebic.cz nebo přes jednorázovou přihlášku na Orisu předem. Nebo až na místě v době prezentace 8:30-9:45.Startovné pro veřejnost:kategorie HDR 90 Kč\, půjčení čipu zdarmakategorie HD12X 90 Kč + půjčení čipu 40 KčKategorie P 90 Kč + půjčení čipu 40 KčStartovné pro registrované závodníky na Orisu:
LOCATION:Stropešín
END:VEVENT
END:VCALENDAR