BEGIN:VCALENDAR
VERSION:2.0
CALSCALE:GREGORIAN
PRODID:-//MyApp//Calendar 1.0//EN
BEGIN:VEVENT
METHOD:PUBLISH
UID:45677@regionalniportaly.cz
DTSTAMP:20260422T171045Z
DTSTART;VALUE=DATE:20241006
DTEND;VALUE=DATE:20241007
SUMMARY:Dr. Kuželka a Aduši
DESCRIPTION:Představení pro děti se koná v sále Sokolovny od 15:00.\n \nVstupenky v předprodeji v ceně 90\,- zakoupíte na webu\, na místě v ceně 150\,- v přísálí Sokolovny.Komediální představení plné cirkusových disciplín.Korektní Doktorka Kuželka se svojí popletenou asistentkou Aduši představují svůj nový Ústav cirkusových věd. Jednotlivé odborné předměty jako žonglování\, akrobacie\, kouzla nebo modelování balónků se neobejdou bez praktické ukázky.Kuželka se snaží o precizní demonstraci všech disciplín\, což ovšem Aduši\, se svým vrozeným talentem všechno zkazit\, důsledně narušuje.Hrají: Doktorka Kuželka – Dáša Heiland TrávníkováAsistentka Aduši – Adéla Kratochvílová
LOCATION:Náměšť nad Oslavou
END:VEVENT
END:VCALENDAR