BEGIN:VCALENDAR
VERSION:2.0
CALSCALE:GREGORIAN
PRODID:-//MyApp//Calendar 1.0//EN
BEGIN:VEVENT
METHOD:PUBLISH
UID:42418@regionalniportaly.cz
DTSTAMP:20260422T175426Z
DTSTART;VALUE=DATE:20240527
DTEND;VALUE=DATE:20240528
SUMMARY:Miroslav Donutil
DESCRIPTION:Zábavný pořad v hlavní roli s bavičem a hercem Miroslavem Donutilem. V sále Sokolovny v Náměšti nad Oslavou.Vstupné 500\,- osobně v Turistickém informačním centru nebo online.
LOCATION:Náměšť nad Oslavou
END:VEVENT
END:VCALENDAR