BEGIN:VCALENDAR
VERSION:2.0
CALSCALE:GREGORIAN
PRODID:-//MyApp//Calendar 1.0//EN
BEGIN:VEVENT
METHOD:PUBLISH
UID:41683@regionalniportaly.cz
DTSTAMP:20260422T171036Z
DTSTART;VALUE=DATE:20241002
DTEND;VALUE=DATE:20241003
SUMMARY:Velká zebra aneb jak že se to jmenujete
DESCRIPTION:Situační komedie s neobvyklou zápletkou. Nestálý Christian nevydrží s žádnou ženou a již dvakrát předstíral vlastní smrt\, aby se vyhnul komplikacím s rozchody a nemusel manželkám říci pravdu. Ženy sice zanechal opuštěné\, ale zajištěné penězi z životní pojistky. Když se Christian tento „trik“ chystá zrealizovat potřetí\, objevuje se souhrou náhod jeho kamarád z dětství a Christian je tak nečekaně vystaven tváří v tvář „vdovám“ i nové snoubence...V hlavní roli Ondřej Vetchý a Jaromír Dulava.\n \nSokolovna v 19:00
LOCATION:Náměšť nad Oslavou
END:VEVENT
END:VCALENDAR