BEGIN:VCALENDAR
VERSION:2.0
CALSCALE:GREGORIAN
PRODID:-//MyApp//Calendar 1.0//EN
BEGIN:VEVENT
METHOD:PUBLISH
UID:41079@regionalniportaly.cz
DTSTAMP:20260422T165001Z
DTSTART;VALUE=DATE:20240928
DTEND;VALUE=DATE:20240929
SUMMARY:Kamelot - Roman Horký 60
DESCRIPTION:Vážení přátelé a kamarádi\,Roman Horký\, zpěvák\, kytarista\, hudební skladatel jedné z nejúspěšnější folkové a trampské hudební skupiny České a Slovenské republiky slaví v roce 2024 významné životní jubileum 60 roků. Toto výročí oslaví se svými příznivci v sobotu 28. 9. 2024 v nádherném údolí u řeky Oslavy\, na louce pod skálou\, zvané "Ketkovák"\, ráje nejen všech trempů\, kousek od obce Senorady.Koncert "Svatováclavská oslava písní" začíná v 16:00 hodin.Kromě Romana Horkého a skupiny Kamelot vystoupí také hosté:Honza Nedvěd ml. a Příbuzní (Čechy a Morava) - https://www.honzanedved.cz/&nbsp\;&nbsp\;&nbsp\;&nbsp\;&nbsp\;&nbsp\;&nbsp\;&nbsp\;&nbsp\;&nbsp\;&nbsp\;&nbsp\;&nbsp\;&nbsp\;&nbsp\;&nbsp\;&nbsp\;&nbsp\;&nbsp\;&nbsp\;&nbsp\;&nbsp\;&nbsp\;&nbsp\;&nbsp\;&nbsp\;&nbsp\;&nbsp\;&nbsp\;&nbsp\;&nbsp\;&nbsp\;&nbsp\;&nbsp\;&nbsp\;&nbsp\;&nbsp\;&nbsp\;&nbsp\;&nbsp\;&nbsp\;&nbsp\;&nbsp\;&nbsp\;&nbsp\;&nbsp\;&nbsp\;&nbsp\;&nbsp\;&nbsp\;&nbsp\;&nbsp\;&nbsp\;&nbsp\;&nbsp\;&nbsp\;&nbsp\;&nbsp\;&nbsp\;&nbsp\;&nbsp\;&nbsp\; https://www.facebook.com/jan.nedved.908Pekaringo (Bratislava) - http://www.pekaringo.sk/&nbsp\;&nbsp\;&nbsp\;&nbsp\;&nbsp\;&nbsp\;&nbsp\;&nbsp\;&nbsp\;&nbsp\;&nbsp\;&nbsp\;&nbsp\;&nbsp\;&nbsp\;&nbsp\;&nbsp\;&nbsp\;&nbsp\;&nbsp\;&nbsp\;&nbsp\;&nbsp\;&nbsp\;&nbsp\;&nbsp\;&nbsp\;&nbsp\;&nbsp\;&nbsp\;&nbsp\;&nbsp\;&nbsp\;&nbsp\;&nbsp\;&nbsp\;&nbsp\;&nbsp\; https://www.facebook.com/profile.php?id=100063468399989Adam Čechovský s kapelou (Náměšť nad Oslavou) - https://www.facebook.com/profile.php?id=100085295193430Těsíme se na vás!Dramaturgie celého odpoledne a večera bude následující:16:00 h – Pekaringo (Bratislava)17:15 h – Adam Čechovský (Náměšť nad Oslavou)17:35 h – Honza Nedvěd a Příbuzní (Čechy a Morava)19:00 h – Kamelot (Brno)Celým představením nás bude provázet skvělá moderátorka Martina Hrbková.Svá auta můžete parkovat na louce vlevo za kantýnou nebo za obcí Senorady (směr Mohelno)\, kde odbočíte první cestou doprava a na polích u pily pana Valouška můžete svá přibližovadla rovněž ponechat. Prosíme vás\, neparkujte svá vozidla před rodinnými domy ani vjezdy do garáží či stodol v obci Senorady\, aby majitelé nebyli nijak omezeni při vjíždění nebo vyjíždění.I v sobotu 28. 9. se budeme řídit pravidlem\, že kdo si co přinese\, to si taky odnese. Budeme v chráněné krajinné oblasti (Přírodní rezervace) a tak na to musíme brát všichni zřetel.Pamatujte\, že neexistuje špatné počasí\, ale pouze špatně oblečený člověk\, proto nezapomeňte na svetry\, bundy\, karimatky\, deky\, celty\,…V místě konání se nebude prodávat žádné občerstvení\, alko ani nealko nápoje… Občerstvit se můžete v nedaleké vyhlášené Kantýně\, kde se na vás bude těšit kantýnská Alice i majordomus Honzík a budou připraveni vás nasytit i napojit.Inu\, snad jsem na nic důležitého nezapomněl.Opravdu se máme na co těšit. Mějte se líbezně a v sobotu na KetkovákuAHOJ!!! Roman
LOCATION:Senorady
END:VEVENT
END:VCALENDAR