BEGIN:VCALENDAR
VERSION:2.0
CALSCALE:GREGORIAN
PRODID:-//MyApp//Calendar 1.0//EN
BEGIN:VEVENT
METHOD:PUBLISH
UID:40590@regionalniportaly.cz
DTSTAMP:20260422T210905Z
DTSTART;VALUE=DATE:20240407
DTEND;VALUE=DATE:20240408
SUMMARY:Koncert Cello Republic
DESCRIPTION:Koncert se uskuteční v neděli 7. 4. 2024 od 19 hodin v sokolovně v Náměšti nad Oslavou (Sadová 259\, Náměšť nad Oslavou).\nJedinečná čtveřice violoncellistů\, vítězů mezinárodních soutěží\, sólistů i pedagogů\, popularizátorů klasické hudby. Tito kluci se proslavili u nás\, ve světě\, na YouTube a kamkoliv vkročili. Nechávají za sebou vyprodané sály\, originální zážitky z koncertů a milióny shlédnutí.\nI přes rozpad původní sestavy z Prague Cello Quartet pokračují ve své umělecké vizi dál – dělat hudbu na nejvyšší úrovni\, v originálně propracovaných aranžích a s řádnou dávkou humoru. Na konci roku 2022 vydali album FREEDOM\, k němuž odehráli úspěšné turné. \nCELLO REPUBLIC hraje v aktuálním složení: Petr Špaček\, Jan Zemen\, Matěj Štěpánek\, Ivan Vokáč.
LOCATION:Náměšť nad Oslavou
END:VEVENT
END:VCALENDAR