BEGIN:VCALENDAR
VERSION:2.0
CALSCALE:GREGORIAN
PRODID:-//MyApp//Calendar 1.0//EN
BEGIN:VEVENT
METHOD:PUBLISH
UID:39562@regionalniportaly.cz
DTSTAMP:20260422T194016Z
DTSTART;VALUE=DATE:20240225
DTEND;VALUE=DATE:20240226
SUMMARY:O Palečkovi
DESCRIPTION:Loutko - činoherní představení je dramatizací předlohy Jana Wericha. Je to klasická pohádka\, tak jak ji lidé znají.V rodině chalupníka se jednoho dne narodil chlapeček\, nebyl o nic větší než palec u ruky\, a tak mu rodiče dali jméno Paleček. Rodičům pomáhal\, jak jen mohl. Jednoho dne dokonce tatínkovi "dostrkal" oběd v košíku přímo na pole...a tam začíná naše pohádka...Děj dokreslují písničky\, doprovázené hrou na kytaru a samozřejmě nechybí vtipné a nečekané situace a zápletky.Inscenace o malém\, mrštném a vtipném hrdinovi je vsazena do velkých\, variabilních\, barevných kulis\, herci v příběhu vystřídají mnoho převleků a k pomoci jim budou samozřejmě loutky.Divák si vědomí\, že síla člověka není v jeho velikosti a hromotluctví\, ale v tom\, že má srdce na pravém místě a když má nápad pod čepicí nemusí se bát žádného siláka.Scénář a režie : František Xaver WatzlVstupné v předprodeji 90\,- Kč\, na místě před představením 130\,- Kč.
LOCATION:Náměšť nad Oslavou
END:VEVENT
END:VCALENDAR