BEGIN:VCALENDAR
VERSION:2.0
CALSCALE:GREGORIAN
PRODID:-//MyApp//Calendar 1.0//EN
BEGIN:VEVENT
METHOD:PUBLISH
UID:39561@regionalniportaly.cz
DTSTAMP:20260422T183737Z
DTSTART;VALUE=DATE:20240221
DTEND;VALUE=DATE:20240222
SUMMARY:Pavel Čadek a Ondřej Zámečník
DESCRIPTION:Pavel Čadek je brněnský písničkář hrající na violoncello a samozvaný zakladatel nového hudebního žánru "cellofolk"\, což je něco mezi Nohavicou (folk) a Apocalypticou (cellorock).V roce 2021 vydal své druhé album 20-30\, na kterém pracoval už s celou řadou vynikajících hudebníků a ač je výrazně popovější\, uchovává si dost originálních prvků.Předskakoval Bratrům Ebenům\, Anně K. i Davidu Kollerovi\, vystupoval například s Pokáčem. Dvakrát zvítězil ve Filmovém festivalu fakulty informatiky MU. Vystupoval na Prague Music Festivale.Cena vstupenky 250\,- / 100\,- (děti do 10 let). Vstupenky zakoupíte na IC\, Masarykovo nám. 100\, Náměšť n. Osl. nebo online www.mks-namest.cz. Prodej na místě: 300\,- /150\,- (děti do 10 let).
LOCATION:Náměšť nad Oslavou
END:VEVENT
END:VCALENDAR