BEGIN:VCALENDAR
VERSION:2.0
CALSCALE:GREGORIAN
PRODID:-//MyApp//Calendar 1.0//EN
BEGIN:VEVENT
METHOD:PUBLISH
UID:38276@regionalniportaly.cz
DTSTAMP:20260422T194608Z
DTSTART;VALUE=DATE:20240322
DTEND;VALUE=DATE:20240323
SUMMARY:Zdeněk Izer - Vyndavací zas tam dací
DESCRIPTION:„ Zdeněk Izer - Vyndavací zas tam dací“Pořad \,ve kterém se diváci budou moci setkat s jedinečným a nezaměnitelným humorem Zdeňka Izera. Jako vždy přijdou na řadu oblíbené zábavné scénky\, parodie\, mnoho skvělých vtipů . Vystoupení je opět obohacené videoprojekcemi\, nejrůznějšími zábavnými kostýmy\, převleky a světelnými efekty.
LOCATION:Náměšť nad Oslavou
END:VEVENT
END:VCALENDAR