BEGIN:VCALENDAR
VERSION:2.0
CALSCALE:GREGORIAN
PRODID:-//MyApp//Calendar 1.0//EN
BEGIN:VEVENT
METHOD:PUBLISH
UID:38275@regionalniportaly.cz
DTSTAMP:20260422T194242Z
DTSTART;VALUE=DATE:20240412
DTEND;VALUE=DATE:20240413
SUMMARY:Dan Bárta & Illustratosphere
DESCRIPTION:Dan Bárta &amp\; Illustratosphere se vydávají na turné s názvem Němá éra tour\, na němž připomenou svá první dvě alba. Dlouho vyprodané desky Illustratosphere (2000) a Entropicture (2003) nyní vycházejí v reedicích na CD\, streamovacích platformách a poprvé i na vinylu.\n \nJedenáctinásobného držitele Ceny Anděl\, Dana Bártu\, doprovází kapela Illustratosphere ve složení kytarista Miroslav Chyška\, klávesista Filip Jelínek a kontrabasista a baskytarista Robert Balzar. Všichni tři jsou uznávanými hudebníky\, skladateli a také členy formace J.A.R. Od roku 2014 je součástí Illustratosphere také slovenský bubeník a promotér Martin Valihora spolupracující s mnoha zahraničními hvězdami.
LOCATION:Náměšť nad Oslavou
END:VEVENT
END:VCALENDAR