BEGIN:VCALENDAR
VERSION:2.0
CALSCALE:GREGORIAN
PRODID:-//MyApp//Calendar 1.0//EN
BEGIN:VEVENT
METHOD:PUBLISH
UID:38274@regionalniportaly.cz
DTSTAMP:20260422T210759Z
DTSTART;VALUE=DATE:20240312
DTEND;VALUE=DATE:20240313
SUMMARY:Manželství v kostce
DESCRIPTION:hrají: Zuzana Kronerová a Oldřich NavrátilVěčný souboj mužů a žen\, který netrvá jen sto let a který se netýká jen dvou jedinců.Dovedete si představit manželství v kostce? Stlačené a zhuštěné jen na ty nejzásadnější momenty? Jde to? Notabene manželství\, které trvá sto let? Emil a Marcela museli žít spolu dlouho\, než jim došlo\, že je jim skvěle. Naštěstí se toho dožili. Hlavní hrdinové projdou naší dobou\, celým staletím\, a budou hrát dvacetileté\, když se v roce 1987 seznámili na vodě u jezu na Berounce\, a budou hrát i stodvacetileté\, když budou na lavičce v Beskydech v budoucnosti vzpomínat na to\, kdo koho chtěl vlastně zavraždit.Délka představení je přibližně 90 minut.Cena vstupenky: 440\,- / 420\,- / 390\,-
LOCATION:Náměšť nad Oslavou
END:VEVENT
END:VCALENDAR