BEGIN:VCALENDAR
VERSION:2.0
CALSCALE:GREGORIAN
PRODID:-//MyApp//Calendar 1.0//EN
BEGIN:VEVENT
METHOD:PUBLISH
UID:38273@regionalniportaly.cz
DTSTAMP:20260424T124402Z
DTSTART;VALUE=DATE:20240121
DTEND;VALUE=DATE:20240122
SUMMARY:Čert a Káča
DESCRIPTION:Veselá a výpravná pohádka o Káče\, která je tradiční postavou českých pohádek. Vždy tak drzá a rozverná. Potěší vás řadou písniček\, zasmějete se veselým scénám\, pobaví vás i další čertův převlek\, budete fandit rázné\, ale upřímné Káče a překvapí vás\, jak to dopadne se závistivou a domýšlivou kněžnou.Představení napsala známá spisovatelka a autorka televizních her Božena Šimková\, která je autorkou např. televizních Krkonošských pohádek. Její pohádky se vyznačují krásnou\, květnatou češtinou\, jsou srozumitelné pro malé diváky a zároveň pobaví i dospělé\nVstupenky v ceně 150\,- Kč.
LOCATION:Náměšť nad Oslavou
END:VEVENT
END:VCALENDAR