BEGIN:VCALENDAR
VERSION:2.0
CALSCALE:GREGORIAN
PRODID:-//MyApp//Calendar 1.0//EN
BEGIN:VEVENT
METHOD:PUBLISH
UID:37605@regionalniportaly.cz
DTSTAMP:20260422T184216Z
DTSTART;VALUE=DATE:20231216
DTEND;VALUE=DATE:20231217
SUMMARY:Jesus Christ Supermlád
DESCRIPTION:Rocková opera o událostech okolo roku 0. Hrají Spojené farnosti. V 15:00 v Sokolovně v Náměšti.
LOCATION:Náměšť nad Oslavou
END:VEVENT
END:VCALENDAR