BEGIN:VCALENDAR
VERSION:2.0
CALSCALE:GREGORIAN
PRODID:-//MyApp//Calendar 1.0//EN
BEGIN:VEVENT
METHOD:PUBLISH
UID:37604@regionalniportaly.cz
DTSTAMP:20260422T153315Z
DTSTART;VALUE=DATE:20231216
DTEND;VALUE=DATE:20231217
SUMMARY:Kouzelné Vánoce v Náměšti nad Oslavou
DESCRIPTION:Vánoční komentované prohlídky reprezentačních prostor zámku s živými obrazy doplněné o vůni vánoc\, klid a pohodu.Vánoční zpívání v zámecké kapli od 12 do 18 hodin vždy v celou.Divadlo Kufr - Vánoční hra aneb co andělé zvěstovali.Vánoční zvyky\, staročeské vánoce\, zdobení perníčků\, vánoční dílničky pro děti\, vánoční fotokoutek\, projížďky na koních\, občerstvení.
LOCATION:Náměšť nad Oslavou
END:VEVENT
END:VCALENDAR