BEGIN:VCALENDAR
VERSION:2.0
CALSCALE:GREGORIAN
PRODID:-//MyApp//Calendar 1.0//EN
BEGIN:VEVENT
METHOD:PUBLISH
UID:37603@regionalniportaly.cz
DTSTAMP:20260422T184147Z
DTSTART;VALUE=DATE:20231211
DTEND;VALUE=DATE:20231212
SUMMARY:Koncert Antikvaret Dušana Vančury v Náměšti nad Oslavou
DESCRIPTION:Koncert skupiny\, kterou založil Dušan Vančura a působil v ní i během svého působení ve Spirituál kvintetu. Po jeho smrti přijala nové členy a zpívá Dušanovy nesmrtelné písně\, které zlidověly a které určitě znáte\, i když to třeba nevíte. Tak schválně: Batalion\, Kocábka\, Mlýny\, Bim bam...
LOCATION:Náměšť nad Oslavou
END:VEVENT
END:VCALENDAR