BEGIN:VCALENDAR
VERSION:2.0
CALSCALE:GREGORIAN
PRODID:-//MyApp//Calendar 1.0//EN
BEGIN:VEVENT
METHOD:PUBLISH
UID:35905@regionalniportaly.cz
DTSTAMP:20260422T165250Z
DTSTART;VALUE=DATE:20231024
DTEND;VALUE=DATE:20231025
SUMMARY:Michal Horák + kapela
DESCRIPTION:Koncert oblíbeného písničkáře. Sokolovna Náměšť nad Oslavou v 19:00. Vstupné 150\,- (děti do 10 let)\, 300\,- na místě i v předprodeji.
LOCATION:Náměšť nad Oslavou
END:VEVENT
END:VCALENDAR