BEGIN:VCALENDAR
VERSION:2.0
CALSCALE:GREGORIAN
PRODID:-//MyApp//Calendar 1.0//EN
BEGIN:VEVENT
METHOD:PUBLISH
UID:35904@regionalniportaly.cz
DTSTAMP:20260422T181601Z
DTSTART;VALUE=DATE:20231016
DTEND;VALUE=DATE:20231017
SUMMARY:Posezení s harmonikou
DESCRIPTION:Hraje a zpívá Jan Vít. Vstupné dobrovolné. Začátek v 16:00.
LOCATION:Náměšť nad Oslavou
END:VEVENT
END:VCALENDAR