BEGIN:VCALENDAR
VERSION:2.0
CALSCALE:GREGORIAN
PRODID:-//MyApp//Calendar 1.0//EN
BEGIN:VEVENT
METHOD:PUBLISH
UID:35903@regionalniportaly.cz
DTSTAMP:20260422T181627Z
DTSTART;VALUE=DATE:20231102
DTEND;VALUE=DATE:20231103
SUMMARY:Madame Rubinstein
DESCRIPTION:Tragikomický příběh královny kosmetického impéria Heleny Rubinstein a její největší rivalky Elizabeth Arden. Sebestředná\, ješitná a cynická\, i tak by se dala popsat. Svou pílí a talentem pro obchod se vypracovala v jednu z nejbohatších žen světa. Nesnášela prázdné tlachání\, byla prostořeká a firmu řídila pevnou rukou do posledního dechu. Jediné oslovení\, které připouštěla\, bylo Madame.\nDélka představení: 2 hod. 10 min. včetně přestávky. Začátek v 19:00.\nCena vstupenky: 390\,- / 420\,-
LOCATION:Náměšť nad Oslavou
END:VEVENT
END:VCALENDAR