BEGIN:VCALENDAR
VERSION:2.0
CALSCALE:GREGORIAN
PRODID:-//MyApp//Calendar 1.0//EN
BEGIN:VEVENT
METHOD:PUBLISH
UID:35902@regionalniportaly.cz
DTSTAMP:20260422T134848Z
DTSTART;VALUE=DATE:20231015
DTEND;VALUE=DATE:20231016
SUMMARY:Ferda Mravenec
DESCRIPTION:Výpravná pohádka na námět Ondřeje Sekory\, napsala a zdramatizovala Jana Galinová.\nHrají\, zpívají a tančí: Robert Stadůlka\, Petr Kozák\, Lenka Lavičková\, Markéta Velánová\, Lukáš Masár\, Michal Žižka\, Petr Erlitz.\nVeselá pohádka plná dobrodružství slavného malého hrdiny s puntíkovaným šátkem a jeho přátel z knížek Ondřeje Sekory.
LOCATION:Náměšť nad Oslavou
END:VEVENT
END:VCALENDAR