BEGIN:VCALENDAR
VERSION:2.0
CALSCALE:GREGORIAN
PRODID:-//MyApp//Calendar 1.0//EN
BEGIN:VEVENT
METHOD:PUBLISH
UID:33955@regionalniportaly.cz
DTSTAMP:20260422T134920Z
DTSTART;VALUE=DATE:20230916
DTEND;VALUE=DATE:20230917
SUMMARY:Oktoberfest Hartvíkovice 2023
DESCRIPTION:Oktoberfest Hartvíkovice 2023Osm druhů piva na čepu\, tupláky\, tradiční pochoutky\, hudba\, krojovaná obsluha\, pivní soutěže a skvělá atmosféra! To je každoroční jistota\, ale i přesto vás čeká několik novinek\, na které se můžete těšit.\nNáš areál otevíráme v 15 hodin a připravili jsme pro vás skvělý program\, který začíná slavnostním narážením dřevěného soudku.\nAkci moderuje Jan Hejda z Hitrádio Vysičina .Celou slavností nás provede známá kapela Q-Stlye .\nPřijďte se s námi pobavit\, zatancovat si\, zasoutěžit nebo jen tak pobýt. Těšíme se na vás!
LOCATION:Hartvíkovice
END:VEVENT
END:VCALENDAR